BEGIN:VCALENDAR
VERSION:2.0
PRODID:-//wp-events-plugin.com//7.2.3.1//EN
TZID:America/Chicago
X-WR-TIMEZONE:America/Chicago
BEGIN:VEVENT
UID:9@woodsflock.com
DTSTART;TZID=America/Kentucky/Louisville:20250719T100000
DTEND;TZID=America/Kentucky/Louisville:20250719T183000
DTSTAMP:20250718T120136Z
URL:https://woodsflock.com/events/woods-flock-summer-splash-2025/
SUMMARY:Woods Flock Summer Splash 2025
DESCRIPTION:\n\n💦Woods Flock Summer Splash 2025
END:VEVENT
BEGIN:VTIMEZONE
TZID:America/Kentucky/Louisville
X-LIC-LOCATION:America/Kentucky/Louisville
BEGIN:DAYLIGHT
DTSTART:20250309T030000
TZOFFSETFROM:-0500
TZOFFSETTO:-0400
TZNAME:EDT
END:DAYLIGHT
END:VTIMEZONE
END:VCALENDAR